BEGIN:VCALENDAR
VERSION:2.0
PRODID:-//Rivers Bend Campground - ECPv4.6.20.1//NONSGML v1.0//EN
CALSCALE:GREGORIAN
METHOD:PUBLISH
X-WR-CALNAME:Rivers Bend Campground
X-ORIGINAL-URL:https://campatriversbend.com/site
X-WR-CALDESC:Events for Rivers Bend Campground
BEGIN:VEVENT
DTSTART;TZID=America/Chicago:20250621T090000
DTEND;TZID=America/Chicago:20250621T160000
DTSTAMP:20260422T080806
CREATED:20250605T203030Z
LAST-MODIFIED:20250605T203030Z
UID:1748-1750496400-1750521600@campatriversbend.com
SUMMARY:Battle of the Paddles
DESCRIPTION:Hegg Health is hosting a pickleball tournament. \n
URL:https://campatriversbend.com/site/event/battle-of-the-paddles/
ATTACH;FMTTYPE=image/png:https://campatriversbend.com/site/wp-content/uploads/2025/06/Screenshot-2025-05-16-at-2.55.21 PM.png
END:VEVENT
END:VCALENDAR