BEGIN:VCALENDAR
VERSION:2.0
PRODID:-//Rivers Bend Campground - ECPv4.6.20.1//NONSGML v1.0//EN
CALSCALE:GREGORIAN
METHOD:PUBLISH
X-WR-CALNAME:Rivers Bend Campground
X-ORIGINAL-URL:https://campatriversbend.com/site
X-WR-CALDESC:Events for Rivers Bend Campground
BEGIN:VEVENT
DTSTART;TZID=America/Chicago:20250705T100000
DTEND;TZID=America/Chicago:20250705T110000
DTSTAMP:20260422T185316
CREATED:20250630T192716Z
LAST-MODIFIED:20250630T192716Z
UID:1766-1751709600-1751713200@campatriversbend.com
SUMMARY:Bracelet Craft
DESCRIPTION:Join us to make a bracelet. \n
URL:https://campatriversbend.com/site/event/bracelet-craft/
ATTACH;FMTTYPE=image/png:https://campatriversbend.com/site/wp-content/uploads/2025/06/Bracelet-Craft-2025.07.05.png
END:VEVENT
END:VCALENDAR