BEGIN:VCALENDAR
VERSION:2.0
PRODID:-//Rivers Bend Campground - ECPv4.6.20.1//NONSGML v1.0//EN
CALSCALE:GREGORIAN
METHOD:PUBLISH
X-WR-CALNAME:Rivers Bend Campground
X-ORIGINAL-URL:https://campatriversbend.com/site
X-WR-CALDESC:Events for Rivers Bend Campground
BEGIN:VEVENT
DTSTART;TZID=America/Chicago:20250726T093000
DTEND;TZID=America/Chicago:20250726T103000
DTSTAMP:20260423T000954
CREATED:20250718T150435Z
LAST-MODIFIED:20250718T150441Z
UID:1790-1753522200-1753525800@campatriversbend.com
SUMMARY:Calling all Crafters!
DESCRIPTION:We have an adorable paver craft for this weekend. 1 paver craft $3; 2 paver craft $5. \n
URL:https://campatriversbend.com/site/event/calling-all-crafters/
ATTACH;FMTTYPE=image/png:https://campatriversbend.com/site/wp-content/uploads/2025/07/Crescent-Paver-Craft-2025.07.26.png
END:VEVENT
END:VCALENDAR