BEGIN:VCALENDAR
VERSION:2.0
PRODID:-//Rivers Bend Campground - ECPv4.6.20.1//NONSGML v1.0//EN
CALSCALE:GREGORIAN
METHOD:PUBLISH
X-WR-CALNAME:Rivers Bend Campground
X-ORIGINAL-URL:https://campatriversbend.com/site
X-WR-CALDESC:Events for Rivers Bend Campground
BEGIN:VEVENT
DTSTART;TZID=America/Chicago:20250614T113000
DTEND;TZID=America/Chicago:20250614T123000
DTSTAMP:20260420T063443
CREATED:20250604T181312Z
LAST-MODIFIED:20250604T181312Z
UID:1727-1749900600-1749904200@campatriversbend.com
SUMMARY:Celebrating Dad
DESCRIPTION:Kids\, come make a Father’s Day gift for our Superhero Dads! \n
URL:https://campatriversbend.com/site/event/celebrating-dad/
ATTACH;FMTTYPE=image/png:https://campatriversbend.com/site/wp-content/uploads/2025/06/Fathers-Day-Craft-2025.05.15.png
END:VEVENT
END:VCALENDAR