BEGIN:VCALENDAR
VERSION:2.0
PRODID:-//Rivers Bend Campground - ECPv4.6.20.1//NONSGML v1.0//EN
CALSCALE:GREGORIAN
METHOD:PUBLISH
X-WR-CALNAME:Rivers Bend Campground
X-ORIGINAL-URL:https://campatriversbend.com/site
X-WR-CALDESC:Events for Rivers Bend Campground
BEGIN:VEVENT
DTSTART;TZID=America/Chicago:20250704T080000
DTEND;TZID=America/Chicago:20250705T150000
DTSTAMP:20260422T155813
CREATED:20250630T192520Z
LAST-MODIFIED:20250630T192520Z
UID:1763-1751616000-1751727600@campatriversbend.com
SUMMARY:Let's Celebrate!
DESCRIPTION:Site decorating contest! Show your patriotism and decorate your camp site. Prize for the winning camp site. Judging at 3:00 pm on Saturday\, July 5th. \n
URL:https://campatriversbend.com/site/event/lets-celebrate/
ATTACH;FMTTYPE=image/png:https://campatriversbend.com/site/wp-content/uploads/2025/06/Decorating-Contest-2025.07.04.png
END:VEVENT
END:VCALENDAR