BEGIN:VCALENDAR
VERSION:2.0
PRODID:-//Rivers Bend Campground - ECPv4.6.20.1//NONSGML v1.0//EN
CALSCALE:GREGORIAN
METHOD:PUBLISH
X-WR-CALNAME:Rivers Bend Campground
X-ORIGINAL-URL:https://campatriversbend.com/site
X-WR-CALDESC:Events for Rivers Bend Campground
BEGIN:VEVENT
DTSTART;TZID=America/Chicago:20250621T190000
DTEND;TZID=America/Chicago:20250621T203000
DTSTAMP:20260422T101001
CREATED:20250604T182909Z
LAST-MODIFIED:20250604T183257Z
UID:1731-1750532400-1750537800@campatriversbend.com
SUMMARY:Movie Night 2
DESCRIPTION:Join us for another movie night. Movie TBD. \n
URL:https://campatriversbend.com/site/event/movie-night-2-2/
ATTACH;FMTTYPE=image/png:https://campatriversbend.com/site/wp-content/uploads/2025/06/Movie-Night-2025.06.21.png
END:VEVENT
END:VCALENDAR