BEGIN:VCALENDAR
VERSION:2.0
PRODID:-//Rivers Bend Campground - ECPv4.6.20.1//NONSGML v1.0//EN
CALSCALE:GREGORIAN
METHOD:PUBLISH
X-WR-CALNAME:Rivers Bend Campground
X-ORIGINAL-URL:https://campatriversbend.com/site
X-WR-CALDESC:Events for Rivers Bend Campground
BEGIN:VEVENT
DTSTART;TZID=America/Chicago:20250620T190000
DTEND;TZID=America/Chicago:20250620T203000
DTSTAMP:20260420T080847
CREATED:20250605T202926Z
LAST-MODIFIED:20250605T202926Z
UID:1746-1750446000-1750451400@campatriversbend.com
SUMMARY:Movie Night!
DESCRIPTION:It’s Movie Night with FREE popcorn! Movie TBD. \n
URL:https://campatriversbend.com/site/event/movie-night-5/
ATTACH;FMTTYPE=image/png:https://campatriversbend.com/site/wp-content/uploads/2025/06/Movie-Night-2025.06.20.png
END:VEVENT
END:VCALENDAR