BEGIN:VCALENDAR
VERSION:2.0
PRODID:-//Rivers Bend Campground - ECPv4.6.20.1//NONSGML v1.0//EN
CALSCALE:GREGORIAN
METHOD:PUBLISH
X-WR-CALNAME:Rivers Bend Campground
X-ORIGINAL-URL:https://campatriversbend.com/site
X-WR-CALDESC:Events for Rivers Bend Campground
BEGIN:VEVENT
DTSTART;TZID=America/Chicago:20250524T190000
DTEND;TZID=America/Chicago:20250524T210000
DTSTAMP:20260420T050203
CREATED:20250516T190905Z
LAST-MODIFIED:20250516T191419Z
UID:1705-1748113200-1748120400@campatriversbend.com
SUMMARY:Movie & Popcorn
DESCRIPTION:Family-friendly movie with FREE popcorn. \n
URL:https://campatriversbend.com/site/event/movie-popcorn/
ATTACH;FMTTYPE=image/png:https://campatriversbend.com/site/wp-content/uploads/2025/05/Movie-Night-52425.png
END:VEVENT
END:VCALENDAR