BEGIN:VCALENDAR
VERSION:2.0
PRODID:-//Rivers Bend Campground - ECPv4.6.20.1//NONSGML v1.0//EN
CALSCALE:GREGORIAN
METHOD:PUBLISH
X-WR-CALNAME:Rivers Bend Campground
X-ORIGINAL-URL:https://campatriversbend.com/site
X-WR-CALDESC:Events for Rivers Bend Campground
BEGIN:VEVENT
DTSTART;VALUE=DATE:20240503
DTEND;VALUE=DATE:20240504
DTSTAMP:20260422T094135
CREATED:20240306T223210Z
LAST-MODIFIED:20240306T223210Z
UID:1629-1714694400-1714780799@campatriversbend.com
SUMMARY:Opening Weekend
DESCRIPTION:Rivers Bend opens for the 2024 Season \n
URL:https://campatriversbend.com/site/event/opening-weekend/
ATTACH;FMTTYPE=image/png:https://campatriversbend.com/site/wp-content/uploads/2023/10/Opening-Day-2024.png
END:VEVENT
END:VCALENDAR