BEGIN:VCALENDAR
VERSION:2.0
PRODID:-//Rivers Bend Campground - ECPv4.6.20.1//NONSGML v1.0//EN
CALSCALE:GREGORIAN
METHOD:PUBLISH
X-WR-CALNAME:Rivers Bend Campground
X-ORIGINAL-URL:https://campatriversbend.com/site
X-WR-CALDESC:Events for Rivers Bend Campground
BEGIN:VEVENT
DTSTART;TZID=America/Chicago:20250703T193000
DTEND;TZID=America/Chicago:20250703T203000
DTSTAMP:20260422T142035
CREATED:20250630T191705Z
LAST-MODIFIED:20250630T191705Z
UID:1757-1751571000-1751574600@campatriversbend.com
SUMMARY:Tie Dye
DESCRIPTION:Tie Dye event! Bring your own item to dye. \n
URL:https://campatriversbend.com/site/event/tie-dye-3/
ATTACH;FMTTYPE=image/png:https://campatriversbend.com/site/wp-content/uploads/2025/06/Tie-Dye-2025.07.03.png
END:VEVENT
END:VCALENDAR