BEGIN:VCALENDAR
VERSION:2.0
PRODID:-//Rivers Bend Campground - ECPv4.6.20.1//NONSGML v1.0//EN
CALSCALE:GREGORIAN
METHOD:PUBLISH
X-WR-CALNAME:Rivers Bend Campground
X-ORIGINAL-URL:https://campatriversbend.com/site
X-WR-CALDESC:Events for Rivers Bend Campground
BEGIN:VEVENT
DTSTART;TZID=America/Chicago:20250802T080000
DTEND;TZID=America/Chicago:20250802T090000
DTSTAMP:20260423T013416
CREATED:20250729T184820Z
LAST-MODIFIED:20250729T184820Z
UID:1797-1754121600-1754125200@campatriversbend.com
SUMMARY:Yoga on the Beach
DESCRIPTION:Start your day off right with Yoga on the Beach followed by mock mimosas. \n
URL:https://campatriversbend.com/site/event/yoga-on-the-beach/
ATTACH;FMTTYPE=image/png:https://campatriversbend.com/site/wp-content/uploads/2025/07/Workout-Mimosas-2025.08.02.png
END:VEVENT
END:VCALENDAR